BEGIN:VCALENDAR
VERSION:2.0
PRODID:-//Tukios.com/
BEGIN:VEVENT
UID:8c82d907-738c-4cec-892a-f408822095d3@www.wardfuneralhomes.com
DTSTAMP:20260423T215159Z
DTSTART:20260427T163000Z
DTEND:20260427T173000Z
SUMMARY:Interment
DESCRIPTION:
URL:https://www.wardfuneralhomes.com/obituaries/pietro-quadrini
LOCATION: 7300 Highway 27  Woodbridge ON L4L 1A5
GEO:43.7599293;-79.6253671
END:VEVENT
END:VCALENDAR