BEGIN:VCALENDAR
VERSION:2.0
PRODID:-//Tukios.com/
BEGIN:VEVENT
UID:3a436ac7-78f9-4997-8295-87beed5ab025@www.wardfuneralhomes.com
DTSTAMP:20260423T214959Z
DTSTART:20260427T150000Z
DTEND:20260427T160000Z
SUMMARY:Mass
DESCRIPTION:
URL:https://www.wardfuneralhomes.com/obituaries/pietro-quadrini
LOCATION: 100 Bainbridge Ave.  Woodbridge  L4L 3Y1
GEO:43.7852063;-79.6108133
END:VEVENT
END:VCALENDAR