BEGIN:VCALENDAR
VERSION:2.0
PRODID:-//Tukios.com/
BEGIN:VEVENT
UID:fa828cd2-5ecb-41cd-9b8b-08db01618a8a@www.wardfuneralhomes.com
DTSTAMP:20260423T214502Z
DTSTART:20260426T220000Z
DTEND:20260427T000000Z
SUMMARY:Visitation
DESCRIPTION:
URL:https://www.wardfuneralhomes.com/obituaries/pietro-quadrini
LOCATION: 4671 Highway #7  Woodbridge ON L4L 1S6
GEO:43.7821986;-79.5783275
END:VEVENT
END:VCALENDAR