BEGIN:VCALENDAR
VERSION:2.0
PRODID:-//Tukios.com/
BEGIN:VEVENT
UID:c82803a6-de7a-416f-87f1-0ce30796f3ea@www.wardfuneralhomes.com
DTSTAMP:20260423T215148Z
DTSTART:20260426T180000Z
DTEND:20260426T200000Z
SUMMARY:Visitation
DESCRIPTION:
URL:https://www.wardfuneralhomes.com/obituaries/pietro-quadrini
LOCATION: 4671 Highway #7  Woodbridge ON L4L 1S6
GEO:43.7821986;-79.5783275
END:VEVENT
END:VCALENDAR