BEGIN:VCALENDAR
VERSION:2.0
PRODID:-//Tukios.com/
BEGIN:VEVENT
UID:b6df3eba-791d-4c2e-816b-5b4b6e806498@www.wardfuneralhomes.com
DTSTAMP:20260421T175105Z
DTSTART:20260502T161500Z
DTEND:20260502T171500Z
SUMMARY:Burial
DESCRIPTION:
URL:https://www.wardfuneralhomes.com/obituaries/maguline-chin
LOCATION: 7241 Jane Street  Vaughan ON L4K 1A7
GEO:43.7823839;-79.5212254
END:VEVENT
END:VCALENDAR