BEGIN:VCALENDAR
VERSION:2.0
PRODID:-//Tukios.com/
BEGIN:VEVENT
UID:2e83bc23-1478-4129-a078-6402c7eb9608@www.wardfuneralhomes.com
DTSTAMP:20260421T175112Z
DTSTART:20260502T140000Z
DTEND:20260502T153000Z
SUMMARY:Funeral Service
DESCRIPTION:
URL:https://www.wardfuneralhomes.com/obituaries/maguline-chin
LOCATION: 1831 Weston Road  Toronto ON M9N 1V9
GEO:43.6996209;-79.51384
END:VEVENT
END:VCALENDAR