BEGIN:VCALENDAR
VERSION:2.0
PRODID:-//Tukios.com/
BEGIN:VEVENT
UID:ebc05125-5108-4bc0-9e4b-937bd6854f8c@www.wardfuneralhomes.com
DTSTAMP:20260421T175105Z
DTSTART:20260502T130000Z
DTEND:20260502T140000Z
SUMMARY:Visitation
DESCRIPTION:
URL:https://www.wardfuneralhomes.com/obituaries/maguline-chin
LOCATION: 1831 Weston Road  Toronto ON M9N 1V9
GEO:43.6996209;-79.51384
END:VEVENT
END:VCALENDAR