BEGIN:VCALENDAR
VERSION:2.0
PRODID:-//Tukios.com/
BEGIN:VEVENT
UID:5a97eacc-8af8-4067-867d-8873f160b759@www.wardfuneralhomes.com
DTSTAMP:20260422T215442Z
DTSTART:20260502T153000Z
DTEND:20260502T170000Z
SUMMARY:Reception
DESCRIPTION:
URL:https://www.wardfuneralhomes.com/obituaries/lawrence-mcguire
LOCATION: 2035 Weston Road  Toronto ON M9N 1X7
GEO:43.701806;-79.5210752
END:VEVENT
END:VCALENDAR