BEGIN:VCALENDAR
VERSION:2.0
PRODID:-//Tukios.com/
BEGIN:VEVENT
UID:b1c1e565-4833-473b-8b6e-e6caef9adf1f@www.wardfuneralhomes.com
DTSTAMP:20260422T215752Z
DTSTART:20260502T133000Z
DTEND:20260502T143000Z
SUMMARY:Visitation
DESCRIPTION:
URL:https://www.wardfuneralhomes.com/obituaries/lawrence-mcguire
LOCATION:Ward Funeral Home - Weston Chapel 2035 Weston Road  Toronto ON 
	M9N 1X7
GEO:43.701806;-79.5210752
END:VEVENT
END:VCALENDAR