BEGIN:VCALENDAR
VERSION:2.0
PRODID:-//Tukios.com/
BEGIN:VEVENT
UID:f69df27e-d34c-46b1-bb0d-db14fe555c6c@www.wardfuneralhomes.com
DTSTAMP:20260422T215813Z
DTSTART:20260502T143000Z
DTEND:20260502T153000Z
SUMMARY:Memorial Service
DESCRIPTION:
URL:https://www.wardfuneralhomes.com/obituaries/lawrence-mcguire
LOCATION:Ward Funeral Home - Weston Chapel 2035 Weston Road  Toronto ON 
	M9N 1X7
GEO:43.701806;-79.5210752
END:VEVENT
END:VCALENDAR