BEGIN:VCALENDAR
VERSION:2.0
PRODID:-//Tukios.com/
BEGIN:VEVENT
UID:55aa154c-9c85-4e91-9177-110d9867d11f@www.wardfuneralhomes.com
DTSTAMP:20260424T171840Z
DTSTART:20260427T170000Z
DTEND:20260427T180000Z
SUMMARY:Burial
DESCRIPTION:
URL:https://www.wardfuneralhomes.com/obituaries/irene-christie
LOCATION:Glendale Memorial Gardens Cemetery 1810 Albion Road  Toronto ON 
	M9W 5S7
GEO:43.7475282;-79.612309
END:VEVENT
END:VCALENDAR