BEGIN:VCALENDAR
VERSION:2.0
PRODID:-//Tukios.com/
BEGIN:VEVENT
UID:63ee39b7-618d-4090-b010-f9a61c4d43d0@www.wardfuneralhomes.com
DTSTAMP:20260420T181931Z
DTSTART:20260423T160000Z
DTEND:20260423T170000Z
SUMMARY:Burial
DESCRIPTION:
URL:https://www.wardfuneralhomes.com/obituaries/giuseppina-brocca
LOCATION: 7241 Jane Street  Vaughan ON L4K 1A7
GEO:43.7823839;-79.5212254
END:VEVENT
END:VCALENDAR