BEGIN:VCALENDAR
VERSION:2.0
PRODID:-//Tukios.com/
BEGIN:VEVENT
UID:ba8ac38b-42cb-45bb-a455-8aebb781ab8f@www.wardfuneralhomes.com
DTSTAMP:20260420T182528Z
DTSTART:20260423T140000Z
DTEND:20260423T150000Z
SUMMARY:Mass
DESCRIPTION:
URL:https://www.wardfuneralhomes.com/obituaries/giuseppina-brocca
LOCATION: 1789 Lawrence Avenue West  Toronto ON M6L 1E3
GEO:43.703193;-79.5005958
END:VEVENT
END:VCALENDAR