BEGIN:VCALENDAR
VERSION:2.0
PRODID:-//Tukios.com/
BEGIN:VEVENT
UID:e35c38cf-4e28-4c96-81fc-9b3377fd7887@www.wardfuneralhomes.com
DTSTAMP:20260420T182233Z
DTSTART:20260422T200000Z
DTEND:20260423T000000Z
SUMMARY:Visitation
DESCRIPTION:
URL:https://www.wardfuneralhomes.com/obituaries/giuseppina-brocca
LOCATION: 2035 Weston Road  Toronto ON M9N 1X7
GEO:43.701806;-79.5210752
END:VEVENT
END:VCALENDAR