BEGIN:VCALENDAR
VERSION:2.0
PRODID:-//Tukios.com/
BEGIN:VEVENT
UID:8151899e-2d01-4506-8e7a-897b9d307bd5@www.wardfuneralhomes.com
DTSTAMP:20260421T163307Z
DTSTART:20260424T140000Z
DTEND:20260424T170000Z
SUMMARY:Visitation
DESCRIPTION:
URL:https://www.wardfuneralhomes.com/obituaries/elisabeth-lugo-verhoeckx
LOCATION: 52 Main Street South  Brampton ON L6W 2C5
GEO:43.684345;-79.756662
END:VEVENT
END:VCALENDAR