BEGIN:VCALENDAR
VERSION:2.0
PRODID:-//Tukios.com/
BEGIN:VEVENT
UID:9587ceee-0a6a-4ab4-a456-ae9344b29ab2@www.wardfuneralhomes.com
DTSTAMP:20260421T082449Z
DTSTART:20260218T190000Z
DTEND:20260218T210000Z
SUMMARY:Visitation
DESCRIPTION:
URL:https://www.wardfuneralhomes.com/obituaries/cornelia-prevedel
LOCATION: 4671 Highway #7  Woodbridge ON L4L 1S6
GEO:43.7821986;-79.5783275
END:VEVENT
END:VCALENDAR