BEGIN:VCALENDAR
VERSION:2.0
PRODID:-//Tukios.com/
BEGIN:VEVENT
UID:c5d26812-336e-4ad9-987b-8e7efcafff8a@www.wardfuneralhomes.com
DTSTAMP:20260419T210344Z
DTSTART:20260422T180000Z
DTEND:20260422T190000Z
SUMMARY:Memorial Service
DESCRIPTION:
URL:https://www.wardfuneralhomes.com/obituaries/cheryl-white
LOCATION: 52 Main Street South  Brampton ON L6W 2C5
GEO:43.684345;-79.756662
END:VEVENT
END:VCALENDAR