BEGIN:VCALENDAR
VERSION:2.0
PRODID:-//Tukios.com/
BEGIN:VEVENT
UID:8c371e37-4a45-4c40-8be8-7a48434ca7bb@www.wardfuneralhomes.com
DTSTAMP:20260419T210026Z
DTSTART:20260422T160000Z
DTEND:20260422T180000Z
SUMMARY:Memorial Visitation
DESCRIPTION:
URL:https://www.wardfuneralhomes.com/obituaries/cheryl-white
LOCATION: 52 Main Street South  Brampton ON L6W 2C5
GEO:43.684345;-79.756662
END:VEVENT
END:VCALENDAR