BEGIN:VCALENDAR
VERSION:2.0
PRODID:-//Tukios.com/
BEGIN:VEVENT
UID:afcdc6cd-1538-447f-b948-d9cec5c5b427@www.wardfuneralhomes.com
DTSTAMP:20260423T210509Z
DTSTART:20260501T170000Z
DTEND:20260501T180000Z
SUMMARY:Graveside Service
DESCRIPTION:
URL:https://www.wardfuneralhomes.com/obituaries/annie-petras
LOCATION: 1450 Saint Clair Avenue West  Toronto ON M6E 1C6
GEO:43.6763673;-79.4515483
END:VEVENT
END:VCALENDAR